Workbook

Sheet INTERGRATED statements
G1: 2016 | H1: 2017 | I1: 2018 | W1: 2016 | X1: 2017 | Y1: 2018 | Z1: 2019 | AA1: 2020 | AB1: 2021
A2: Average share price | G2: 43.62 | H2: 44.09 | I2: 45.09 | Q2: Average share price | W2: 43.62 | X2: 44.09 | Y2: 45.09
A3: Last historical year | D3: 43465 | Q3: Last historical year | T3: 43465
A4: Annual gross margin improvement | Q4: Annual gross margin improvement
Q5: Interest rate | U5: 0.0165
A6: Depreciation and amortization | Q6: Depreciation and amortization
Q7: Effective tax rate | W7: 0.194 | X7: 0.825 | Y7: 0.194 | Z7: =AVERAGE(W7:Y7) -> 0.40433333 | AA7: =AVERAGE(X7:Z7) -> 0.47444444 | AB7: =AVERAGE(Y7:AA7) -> 0.35759259
P8: Financial statements drivers
A9: Cocacola | D9: Units | G9: 2016 | H9: 2017 | I9: 2018 | J9: =2019 -> 2019 | K9: 2020 | L9: 2021 | P9: Income statement drivers
A10: Annual income statement
R11: Units | S11: 2016 | T11: 2017 | U11: 2018 | V11: 2019 | W11: 2020 | X11: 2021
A12: Total revenue | G12: 41863 | H12: 35410 | I12: 31856 | J12: =I12*V12 -> 45625.816 | K12: =J12*W12 -> 62062.184 | L12: =K12*X12 -> 83717.057 | P12: Total revenue | R12: % | S12: =G12/G14 -> 1.6482794 | T12: =H12/G14 -> 1.3942043 | U12: =I12/G14 -> 1.254272 | V12: =AVERAGE(S12:U12) -> 1.4322519 | W12: =AVERAGE(T12:V12) -> 1.3602427 | X12: =AVERAGE(U12:W12) -> 1.3489222
A13: Cost of revenue | G13: 16465 | H13: 13255 | I13: 11770 | J13: =I13*V13 -> 6409.1306 | K13: =J13*W13 -> 3268.3252 | L13: =K13*X13 -> 1653.6654 | P13: Cost of revenue | R13: % | S13: =G13/G14 -> 0.64827939 | T13: =H13/G14 -> 0.52189149 | U13: =I13/G14 -> 0.46342232 | V13: =AVERAGE(S13:U13) -> 0.54453107 | W13: =AVERAGE(T13:V13) -> 0.50994829 | X13: =AVERAGE(U13:W13) -> 0.50596722
A14: Gross profit | G14: =G12-G13 -> 25398 | H14: =H12-H13 -> 22155 | I14: =I12-I13 -> 20086 | J14: =J12-J13 -> 39216.685 | K14: =K12-K13 -> 58793.859 | L14: =L12-L13 -> 82063.392 | P14: Gross profit | R14: %
A15: Operating expenses | P15: Revenue growth | T15: =(H12/G12)-1 -> -0.15414567 | U15: =(I12/G12)-1 -> -0.23904164 | V15: 0.2 | W15: 0.19 | X15: =AVERAGE(V15:W15) -> 0.195
A16: Research and development | G16: 0 | H16: 0 | I16: 0 | J16: =I16 -> 0 | K16: =J16 -> 0 | L16: =K16 -> 0 | P16: Growth improvement | T16: =T15-S15 -> -0.15414567 | U16: =U15-T15 -> -0.08489597 | V16: =V15-U15 -> 0.43904164 | W16: =W15-V15 -> -0.01 | X16: =X15-W15 -> 0.005
A17: Sales general and admin | G17: 16741 | H17: 14566 | I17: 11386 | J17: =I17*V20 -> 9678.8821 | K17: =J17*W20 -> 7743.9922 | L17: =K17*X20 -> 6015.2413 | P17: SG&A revenue | S17: =G19/G12 -> 0.39989967 | T17: =H19/H12 -> 0.41135273 | U17: =I19/I12 -> 0.35742089 | V17: =J19/J12 -> 0.21213609 | W17: =K19/K12 -> 0.12477795 | X17: =L19/L12 -> 0.071852039
A18: Non recuring items | G18: 0 | H18: 0 | I18: 0 | J18: =I18 -> 0 | K18: =J18 -> 0 | L18: =K18 -> 0
A19: Total operating expenses | G19: =G17+G18 -> 16741 | H19: =H17+H18 -> 14566 | I19: =I17+I18 -> 11386 | J19: =J17+J18 -> 9678.8821 | K19: =K17+K18 -> 7743.9922 | L19: =L17+L18 -> 6015.2413 | P19: Operating expenses | R19: %
A20: Earnings before interest and tax | G20: =G14-G19 -> 8657 | H20: =H14-H19 -> 7589 | I20: =I14-I19 -> 8700 | J20: =J14-J19 -> 29537.803 | K20: =K14-K19 -> 51049.866 | L20: =L14-L19 -> 76048.151 | P20: Sales and general admin expenses | R20: % | S20: =G17/G19 -> 1 | T20: =H17/G19 -> 0.87007945 | U20: =I17/G19 -> 0.68012664 | V20: =AVERAGE(S20:U20) -> 0.85006869 | W20: =AVERAGE(T20:V20) -> 0.80009159 | X20: =AVERAGE(U20:W20) -> 0.77676231
A21: additional income/ expense | G21: -623 | H21: -1087 | I21: -439 | J21: =I21*V23 -> 48.179919 | K21: =J21*W23 -> -5.5173607 | L21: =K21*X23 -> 0.53614786 | P21: Depreciation | R21: % | S21: =G106/G19 -> 0.10674392 | T21: =H106/G19 -> 0.075264321 | U21: =I106/G19 -> 0.064870677 | V21: =AVERAGE(S21:U21) -> 0.082292973 | W21: =AVERAGE(T21:V21) -> 0.074142657 | X21: =AVERAGE(U21:W21) -> 0.073768769
A22: Earnings before tax | G22: 8669 | H22: 7583 | I22: 9269 | J22: =J20-J21 -> 29489.623 | K22: =K20-K21 -> 51055.384 | L22: =L20-L21 -> 76047.614 | R22: %
A23: Interest expense | G23: 733 | H23: 841 | I23: 919 | J23: =I27*V24 -> 856.46346 | K23: =J28*W24 -> 2883.342 | L23: =K27 -> 4465.1111 | P23: Additional income/expense | R23: % | S23: =G21/G28 -> -0.095449671 | T23: =H21/G28 -> -0.16653899 | U23: =I21/G28 -> -0.067259078 | V23: =AVERAGE(S23:U23) -> -0.10974925 | W23: =AVERAGE(T23:V23) -> -0.11451577 | X23: =AVERAGE(U23:W23) -> -0.097174699
A24: Income tax | G24: 1586 | H24: 5560 | I24: 1623 | J24: =V33 -> 418.506 | K24: =W33 -> 1.4345101 | L24: =X33 -> -0.058990137 | P24: Interest expense | R24: % | S24: =G23/G28 -> 0.11230274 | T24: =H23/G28 -> 0.12884939 | U24: =I23/G28 -> 0.14079975 | V24: =AVERAGE(S24:U24) -> 0.1273173 | W24: =AVERAGE(T24:V24) -> 0.13232215 | X24: =AVERAGE(U24:W24) -> 0.13347973
A25: Minority interest | G25: -23 | H25: -35 | I25: -42 | J25: =AVERAGE(G25:I25) -> -33.333333 | K25: =AVERAGE(H25:J25) -> -36.777778 | L25: =AVERAGE(I25:K25) -> -37.37037 | P25: Income tax expense | R25: % | S25: =G24/G28 -> 0.24299065 | T25: =H24/G28 -> 0.85184618 | U25: =I24/G28 -> 0.24865941 | V25: =AVERAGE(S25:U25) -> 0.44783208 | W25: =AVERAGE(T25:V25) -> 0.51611256 | X25: =AVERAGE(U25:W25) -> 0.40420135
A26: Equity earnings | G26: 835 | H26: 1071 | I26: 1008 | J26: =AVERAGE(G26:I26) -> 971.33333 | K26: =AVERAGE(H26:J26) -> 1016.7778 | L26: =AVERAGE(I26:K26) -> 998.7037 | R26: %
A27: Net income from continuing operations | G27: 8550 | H27: 1182 | I27: 6727 | J27: =AVERAGE(G27:I27) -> 5486.3333 | K27: =AVERAGE(H27:J27) -> 4465.1111 | L27: =AVERAGE(I27:K27) -> 5559.4815
A28: Net income | G28: 6527 | H28: 1248 | I28: 6434 | J28: =J22-J23-J24-J25-J26-J27 -> 21790.32 | K28: =K22-K23-K24-K25-K26-K27 -> 42725.496 | L28: =L22-L23-L24-L25-L26-L27 -> 65061.747 | P28: Amortisation of debt | R28: % | S28: =G129/29684 -> -0.86292279 | T28: =H129/H85 -> -0.92162145 | U28: =I129/I85 -> -1.2051727 | V28: =AVERAGE(S28:U28) -> -0.99657231 | W28: =AVERAGE(T28:V28) -> -1.0411221 | X28: =AVERAGE(U28:W28) -> -1.0809557
A29: Net income applicable to common shareholders | P29: Debt beginning balance | R29: % | V29: =I85 -> 25364 | W29: =V31 -> 86.940008 | X29: =W31 -> -3.5751598
A30: % growth in net revenues | G30: =(G28/7351)-1 -> -0.11209359 | H30: =(H28/G28)-1 -> -0.80879424 | I30: =(I28/H28)-1 -> 4.1554487 | J30: =(J28/I28)-1 -> 2.3867455 | K30: =(K28/J28)-1 -> 0.96075574 | L30: =(L28/K28)-1 -> 0.52278507 | P30: (-) Amortisation | R30: % | V30: =V28*V29 -> -25277.06 | W30: =W28*W29 -> -90.515168 | X30: =X28*X29 -> 3.8645894
A31: Percentage growth in revenues | G31: =G28/G22 -> 0.75291268 | H31: =H28/H22 -> 0.16457866 | I31: =I28/I22 -> 0.69414176 | J31: =J28/J22 -> 0.73891485 | K31: =K28/K22 -> 0.83684605 | L31: =L28/L22 -> 0.85553962 | P31: Ending debt balance | R31: % | V31: =V29+V30 -> 86.940008 | W31: =W29+W30 -> -3.5751598 | X31: =X29+X30 -> 0.28942961
R32: %
P33: Interest expense | R33: % | V33: =V29*U5 -> 418.506 | W33: =W29*U5 -> 1.4345101 | X33: =X29*U5 -> -0.058990137
A34: Net income per share from the continuing operations | G34: 1.51 | H34: 0.28 | I34: 1.58
A35: loss per share/net income from continued operations | G35: 0 | H35: 0.02 | I35: -0.07
A36: Basic net income per share | G36: =G34+G35 -> 1.51 | H36: =H34+H35 -> 0.3 | I36: =I34+I35 -> 1.51 | O36: Balance sheet drivers
P37: Days in sales outstanding
P38: Days sales of inventory
P39: Days payables outstanding
A45: Net income per share from the continuing operations
...

Sheet DCF
A1: Discounted cash flow analyssis
E5: 2017 | F5: 2018 | G5: 2019 | H5: 2020 | I5: 2021
A6: EBIT | E6: ='INTERGRATED statements'!G22 -> 8669 | F6: ='INTERGRATED statements'!H22 -> 7583 | G6: ='INTERGRATED statements'!I22 -> 9269 | H6: ='INTERGRATED statements'!J22 -> 29489.623 | I6: ='INTERGRATED statements'!K22 -> 51055.384
A8: Csot of capital 10% | C8: 0.1
A9: Present value of cashflow | E9: 2017 | F9: 2018 | G9: 2019 | H9: 2020 | I9: 2021
D10: Year | E10: 1 | F10: 2 | G10: 3 | H10: 4 | I10: 5
A11: Discounting factor | E11: =1/((1+C8)^E10) -> 0.90909091 | F11: =1/((1+C8)^F10) -> 0.82644628 | G11: =1/((1+C8)^G10) -> 0.7513148 | H11: =1/((1+C8)^H10) -> 0.68301346 | I11: =1/((1+C8)^I10) -> 0.62092132
A12: *resent value of cash flows | E12: =E6*E11 -> 7880.9091 | F12: =F6*F11 -> 6266.9421 | G12: =G6*G11 -> 6963.9369 | H12: =H6*H11 -> 20141.81 | I12: =I6*I11 -> 31701.376

Sheet WACC
F2: 2017 | G2: 2018 | H2: 2019 | I2: 2020 | J2: 2021 | K2: 2022
D3: Effective tax rate | F3: 0.825 | G3: 0.194 | H3: 0.195 | I3: =AVERAGE(F3:H3) -> 0.40466667 | J3: =AVERAGE(G3:I3) -> 0.26455556 | K3: =AVERAGE(H3:J3) -> 0.28807407
D4: Before new tax code | F4: =I3 -> 0.40466667
D5: After new tax code | F5: 0.195
B8: Debt | C8: Total current liabilities | F8: ='INTERGRATED statements'!J84 -> 32145.3
C9: Totla long term liabilities | F9: ='INTERGRATED statements'!J85 -> 31182.187
C10: Total liabilities | F10: =F8+F9 -> 63327.487
C13: rd
C14: re | D14: =Sheet3!B5 -> 0.028
C15: D | D15: =F10 -> 63327.487
C16: Stock price | D16: 150
C17: Outstanding shares | D17: =11200-7040 -> 4160
C18: E | D18: =D16*D17 -> 624000
C19: D+V=V | D19: =D18+F10 -> 687327.49

Sheet Sheet3
A2: Risk free rate | B2: 0.028
A3: Yield | B3: 0.035
A4: Beta | B4: 1.5
B5: =B2+(F6*(B4-B2)) -> 0.028
